BEGIN:VCALENDAR
VERSION:2.0
PRODID:-//www.thearcofsomerset.org//NONSGML kigkonsult.se iCalcreator 2.30.
 10//
CALSCALE:GREGORIAN
METHOD:PUBLISH
UID:51831d88-16e6-4304-bd8a-7c0a92a0ea4b
X-WR-CALDESC:For additional information\, please contact Mary Atchey\, Assi
 stant Director of Family Support.
X-WR-RELCALID:ec3bc00152cf46e354331a34e0f6b056
X-WR-TIMEZONE:America/New_York
BEGIN:VTIMEZONE
TZID:America/New_York
BEGIN:STANDARD
TZNAME:EST
DTSTART:20091101T020000
TZOFFSETFROM:-0400
TZOFFSETTO:-0500
RDATE:20101107T020000
END:STANDARD
BEGIN:DAYLIGHT
TZNAME:EDT
DTSTART:20100314T020000
TZOFFSETFROM:-0500
TZOFFSETTO:-0400
RDATE:20110313T020000
END:DAYLIGHT
END:VTIMEZONE
BEGIN:VEVENT
UID:c445dda7-8128-4433-a010-d045fbf401f2
DTSTAMP:20260420T104823Z
DESCRIPTION:For additional information\, please contact Mary Atchey\, Assis
 tant Director of Family Support.
DTSTART;TZID=America/New_York:20100501T110000
DTEND;TZID=America/New_York:20100501T160000
LOCATION:Somerset Holiday Inn Somerset\, NJ
SUMMARY:Caring for Mothers & Others Day
END:VEVENT
END:VCALENDAR
