BEGIN:VCALENDAR
VERSION:2.0
PRODID:-//www.thearcofsomerset.org//NONSGML kigkonsult.se iCalcreator 2.30.
 10//
CALSCALE:GREGORIAN
METHOD:PUBLISH
UID:cc41faaf-0684-4798-8f0b-1e9eb041b49b
X-WR-CALDESC:You're invited to join us for a safe and caring program for ch
 idlren 3-12 years old.\n\nActivities and refreshment will be provided.\n\n
 Price per child: $15\nPrice per sibling: $5
X-WR-RELCALID:52d559aa43c84a70b2f647e3fed98d3b
X-WR-TIMEZONE:America/New_York
BEGIN:VTIMEZONE
TZID:America/New_York
BEGIN:STANDARD
TZNAME:EST
DTSTART:20091101T020000
TZOFFSETFROM:-0400
TZOFFSETTO:-0500
RDATE:20101107T020000
RDATE:20111106T020000
END:STANDARD
BEGIN:DAYLIGHT
TZNAME:EDT
DTSTART:20100314T020000
TZOFFSETFROM:-0500
TZOFFSETTO:-0400
RDATE:20110313T020000
END:DAYLIGHT
END:VTIMEZONE
BEGIN:VEVENT
UID:972031a7-cd29-4e35-af16-54edaf946cc6
DTSTAMP:20260420T105419Z
DESCRIPTION:You're invited to join us for a safe and caring program for chi
 dlren 3-12 years old.\n\nActivities and refreshment will be provided.\n\nP
 rice per child: $15\nPrice per sibling: $5
DTSTART;TZID=America/New_York:20100521T180000
DTEND;TZID=America/New_York:20100521T210000
LOCATION:Jerry Davis Center for Children and Families / The Arc of Somerset
  County 141 S Main Street\, Manville\, NJ
SUMMARY:Kids' Night Out
END:VEVENT
END:VCALENDAR
