BEGIN:VCALENDAR
VERSION:2.0
PRODID:-//www.thearcofsomerset.org//NONSGML kigkonsult.se iCalcreator 2.30.
 10//
CALSCALE:GREGORIAN
METHOD:PUBLISH
UID:08fc35bb-f8b5-4afd-9e6f-efe88938efde
X-WR-CALDESC:Join The Arc of Somerset County for our 2010 Step Up For The A
 rc Walk. This year's event will also include a 5K Run!\n\nRegistration: 10
 :00 am\nOpening remarks: 10:45 am\n5K Run begins: 11:00 am\nWalk begins: 1
 1:15 am\n\nFor more information\, visit: fhttp://firstgiving.com/arc-somer
 set\n\nSponsorship Opportunities available!!
X-WR-RELCALID:48b4233f78bf4b0d4a1a213eb03e19fd
X-WR-TIMEZONE:America/New_York
BEGIN:VTIMEZONE
TZID:America/New_York
BEGIN:STANDARD
TZNAME:EST
DTSTART:20091101T020000
TZOFFSETFROM:-0400
TZOFFSETTO:-0500
RDATE:20101107T020000
RDATE:20111106T020000
END:STANDARD
BEGIN:DAYLIGHT
TZNAME:EDT
DTSTART:20100314T020000
TZOFFSETFROM:-0500
TZOFFSETTO:-0400
RDATE:20110313T020000
END:DAYLIGHT
END:VTIMEZONE
BEGIN:VEVENT
UID:8ee490b7-1540-4d32-af41-c06a2cd580d5
DTSTAMP:20260420T105147Z
DESCRIPTION:Join The Arc of Somerset County for our 2010 Step Up For The Ar
 c Walk. This year's event will also include a 5K Run!\n\nRegistration: 10:
 00 am\nOpening remarks: 10:45 am\n5K Run begins: 11:00 am\nWalk begins: 11
 :15 am\n\nFor more information\, visit: fhttp://firstgiving.com/arc-somers
 et\n\nSponsorship Opportunities available!!
DTSTART;TZID=America/New_York:20100522T100000
DTEND;TZID=America/New_York:20100522T130000
LOCATION:
SUMMARY:2010 Step Up For The Arc Walk & 5K Run!
END:VEVENT
END:VCALENDAR
