BEGIN:VCALENDAR
VERSION:2.0
PRODID:-//www.thearcofsomerset.org//NONSGML kigkonsult.se iCalcreator 2.30.
 10//
CALSCALE:GREGORIAN
METHOD:PUBLISH
UID:2af13f58-6534-41c8-8780-5b5f9ba12545
X-WR-CALDESC:This workshop was developed to assist families caring for love
 d ones with special needs to financially prepare for their future. The pro
 gram provides essential information\, tools and resources to assist famili
 es in the selection of insurance and investment products specific to their
  needs including:\n\nThe importance of state and federal programs that pro
 vide support and/or assistance to people who have disabilities\n\nSpecial 
 Needs planning and Government regulations\n\nCommon planning mistakes\n\nL
 etter of Intent and its role\n		\nRole of Life Insurance\, Long-term care\, 
 How much to own\, What kind to own\n\n\nPlease RSVP to Mary Atchey by Sept
 ember 17\, 2010 at 908-725-8544 ext 624 or marya@thearcofsomerset.org\n
X-WR-RELCALID:47b41312c34c37e7ce94fb9989ebd43a
X-WR-TIMEZONE:America/New_York
BEGIN:VTIMEZONE
TZID:America/New_York
BEGIN:STANDARD
TZNAME:EST
DTSTART:20091101T020000
TZOFFSETFROM:-0400
TZOFFSETTO:-0500
RDATE:20101107T020000
RDATE:20111106T020000
END:STANDARD
BEGIN:DAYLIGHT
TZNAME:EDT
DTSTART:20100314T020000
TZOFFSETFROM:-0500
TZOFFSETTO:-0400
RDATE:20110313T020000
RDATE:20120311T020000
END:DAYLIGHT
END:VTIMEZONE
BEGIN:VEVENT
UID:e12e0c45-ba4a-42b9-9cba-b5d185e695b2
DTSTAMP:20260420T051540Z
DESCRIPTION:This workshop was developed to assist families caring for loved
  ones with special needs to financially prepare for their future. The prog
 ram provides essential information\, tools and resources to assist familie
 s in the selection of insurance and investment products specific to their 
 needs including:\n\nThe importance of state and federal programs that prov
 ide support and/or assistance to people who have disabilities\n\nSpecial N
 eeds planning and Government regulations\n\nCommon planning mistakes\n\nLe
 tter of Intent and its role\n		\nRole of Life Insurance\, Long-term care\, H
 ow much to own\, What kind to own\n\n\nPlease RSVP to Mary Atchey by Septe
 mber 17\, 2010 at 908-725-8544 ext 624 or marya@thearcofsomerset.org\n
DTSTART;TZID=America/New_York:20100922T190000
DTEND;TZID=America/New_York:20100922T210000
LOCATION:The Arc of Somerset County Family Support Center
SUMMARY:Special Needs Trust Workshop
END:VEVENT
END:VCALENDAR
