BEGIN:VCALENDAR
VERSION:2.0
PRODID:-//www.thearcofsomerset.org//NONSGML kigkonsult.se iCalcreator 2.30.
 10//
CALSCALE:GREGORIAN
METHOD:PUBLISH
UID:0ae8a8aa-5d2b-40d0-8f4f-647a3bd1e305
X-WR-CALDESC:Registration Time: 7:30 AM-9 AM\n\nEnd Time: 6 PM\n\nProfessio
 nal Fee: $150\, Family & Student Rate: $100\n\nAddress: 515 US Highway 1 S
 outh\, Iselin\, New Jersey (Renaissance Woodbridge Hotel)\n\nSponsored by:
  Family Resource Network\n\nKeynote Speaker: John F. Crowley\, J.D.\, M.B.
 A.\n\nPresident & CEO of Americus Therapeutics\n\nFather of family that in
 spired the movie 'Extraordinary Measures'\n\nMore information: http://www.
 nationalcaregiversconference.com/faf/home/default.asp?ievent=346583&lis=1&
 kntae346583=58C99477567B481FB42B0E21617DFAF6
X-WR-RELCALID:1b5386d07efb28332ea1df472995beac
X-WR-TIMEZONE:America/New_York
BEGIN:VTIMEZONE
TZID:America/New_York
BEGIN:STANDARD
TZNAME:EST
DTSTART:20091101T020000
TZOFFSETFROM:-0400
TZOFFSETTO:-0500
RDATE:20101107T020000
RDATE:20111106T020000
END:STANDARD
BEGIN:DAYLIGHT
TZNAME:EDT
DTSTART:20100314T020000
TZOFFSETFROM:-0500
TZOFFSETTO:-0400
RDATE:20110313T020000
RDATE:20120311T020000
END:DAYLIGHT
END:VTIMEZONE
BEGIN:VEVENT
UID:e163af8b-6861-4d1c-947b-19b87801e79d
DTSTAMP:20260420T032858Z
DESCRIPTION:Registration Time: 7:30 AM-9 AM\n\nEnd Time: 6 PM\n\nProfession
 al Fee: $150\, Family & Student Rate: $100\n\nAddress: 515 US Highway 1 So
 uth\, Iselin\, New Jersey (Renaissance Woodbridge Hotel)\n\nSponsored by: 
 Family Resource Network\n\nKeynote Speaker: John F. Crowley\, J.D.\, M.B.A
 .\n\nPresident & CEO of Americus Therapeutics\n\nFather of family that ins
 pired the movie 'Extraordinary Measures'\n\nMore information: http://www.n
 ationalcaregiversconference.com/faf/home/default.asp?ievent=346583&lis=1&k
 ntae346583=58C99477567B481FB42B0E21617DFAF6
DTSTART;TZID=America/New_York:20101026T073000
DTEND;TZID=America/New_York:20101026T180000
LOCATION:515 US Highway 1 South\, Iselin\, New Jersey (Renaissance Woodbrid
 ge Hotel)
SUMMARY:Family Support Center of New Jersey National Caregivers Conference
END:VEVENT
END:VCALENDAR
