BEGIN:VCALENDAR
VERSION:2.0
PRODID:-//www.thearcofsomerset.org//NONSGML kigkonsult.se iCalcreator 2.30.
 10//
CALSCALE:GREGORIAN
METHOD:PUBLISH
UID:3a395dde-1fca-49c0-af23-ec1bfb994cdc
X-WR-CALDESC:Join The Arc of Somerset County for our annual Arc Angel Gala\
 , scheduled for Friday\, December 3\, 2010 at 7 o'clock pm at the Fiddler'
 s Elbow Country Club in Far Hills\, NJ.\n\nSponsorship Levels\nChairman Ci
 rcle: $25\,000\nVice Chairman: $10\,000\nBenefactor: $7\,500\nSponsor: $5\
 ,000\n\nIndividual tickets: $175 or $300/couple\n\nEvent honorees include:
 \n\nArc Angel Award - AT&T\nAT&T has provided nearly two decades of suppor
 t to individuals served by The Arc\, and its stellar commitment to uplifti
 ng those with disabilities is demonstrated by the longtime former board se
 rvices of Mr. Tom S. Brooks\, Vice President of External and Legislative A
 ffairs at AT&T. Joining the company in 1980\, he held numerous key positio
 n that have placed AT&T as a leader in the industry. Mr. Brooks holds a Hi
 story degree from University of New York at Stony Brook\, and a Juris Doct
 orate from New York Law School.\n\nLifetime Achievement Award - Mr. Fred R
 . Patterson\nFred Patterson\, founding board member and retired executive 
 of Johnson & Johnson\, will receive the coveted Lifetime Achievement Award
 . Mr. Patterson passionately advocates for the prevention of disabilities\
 , and safe housing\, education and employment for those without a voice. H
 is accomplishments include: The Arc of the US and J&J Partnership\; NJ Gov
 ernor's Award\, Pride of NJ\; and key founder of Safe Kids USA - just to n
 ame a few.\n
X-WR-RELCALID:945e674137ab7494aad816c8ed220537
X-WR-TIMEZONE:America/New_York
BEGIN:VTIMEZONE
TZID:America/New_York
BEGIN:STANDARD
TZNAME:EST
DTSTART:20101107T020000
TZOFFSETFROM:-0400
TZOFFSETTO:-0500
RDATE:20111106T020000
END:STANDARD
BEGIN:DAYLIGHT
TZNAME:EDT
DTSTART:20100314T020000
TZOFFSETFROM:-0500
TZOFFSETTO:-0400
RDATE:20110313T020000
RDATE:20120311T020000
END:DAYLIGHT
END:VTIMEZONE
BEGIN:VEVENT
UID:760166a6-e6c4-461c-81b8-730b18033fe2
DTSTAMP:20260420T004027Z
DESCRIPTION:Join The Arc of Somerset County for our annual Arc Angel Gala\,
  scheduled for Friday\, December 3\, 2010 at 7 o'clock pm at the Fiddler's
  Elbow Country Club in Far Hills\, NJ.\n\nSponsorship Levels\nChairman Cir
 cle: $25\,000\nVice Chairman: $10\,000\nBenefactor: $7\,500\nSponsor: $5\,
 000\n\nIndividual tickets: $175 or $300/couple\n\nEvent honorees include:
 \n\nArc Angel Award - AT&T\nAT&T has provided nearly two decades of suppor
 t to individuals served by The Arc\, and its stellar commitment to uplifti
 ng those with disabilities is demonstrated by the longtime former board se
 rvices of Mr. Tom S. Brooks\, Vice President of External and Legislative A
 ffairs at AT&T. Joining the company in 1980\, he held numerous key positio
 n that have placed AT&T as a leader in the industry. Mr. Brooks holds a Hi
 story degree from University of New York at Stony Brook\, and a Juris Doct
 orate from New York Law School.\n\nLifetime Achievement Award - Mr. Fred R
 . Patterson\nFred Patterson\, founding board member and retired executive 
 of Johnson & Johnson\, will receive the coveted Lifetime Achievement Award
 . Mr. Patterson passionately advocates for the prevention of disabilities\
 , and safe housing\, education and employment for those without a voice. H
 is accomplishments include: The Arc of the US and J&J Partnership\; NJ Gov
 ernor's Award\, Pride of NJ\; and key founder of Safe Kids USA - just to n
 ame a few.\n
DTSTART;TZID=America/New_York:20101203T190000
DTEND;TZID=America/New_York:20101203T230000
LOCATION:Fiddler's Elbow Country Club
SUMMARY:2010 Arc Angel Gala: 'A Lifetime of Opportunities'
END:VEVENT
END:VCALENDAR
