BEGIN:VCALENDAR
VERSION:2.0
PRODID:-//www.thearcofsomerset.org//NONSGML kigkonsult.se iCalcreator 2.30.
 10//
CALSCALE:GREGORIAN
METHOD:PUBLISH
UID:b3c59617-2b1d-48aa-957a-1d10a2c7eea8
X-WR-CALDESC:¿Tiene preguntas acerca del apoyo y servicios para su niño con
  una incapacidad\, incluyendo el IEP de su niño\, la División de Incapacid
 ades de Desarrollo (DDD)\, & recursos de la comunidad?\nUnamonos para \n “
 Te Estrecho Mi Mano de Apoyo”\nGrupo Informacional de Padres\, Para Padres
  Hispanos\n\nDonde: 	 The Arc of Somerset County Family Support Center \n		 1
 41 South Main Street\n		 Manville\, NJ 08835\n\nCuando:  Jueves\, 20 de Ener
 o\, 2011 \n		  En caso de un día de nieve nos reuniremos el Jueves\, 27 de E
 nero\, 2011\n\nHora: 	 10:30a.m- 12:30p.m\n\n\nSCOOT autobuses disponibles\
 ; contacte por favor al 908-231-7151\, para Transporte del Condado de Some
 rset\n\nTraiga sus ideas\, preguntas\, y preocupaciones. Si no puede venir
  al primer dia del grupo\, puede completar el cuestionario adjunto y manda
 rlo de vuelta a nuestro programa. \n\nEl grupo será facilitado en Español.
 \n\nPor favor reserve con :\nKarina Alvarado al 908-725-8544 Ext 672 \nO 
 \nClaudia Fernandez al 908-725-2366 Ext 208\n\nPor favor reserve antes de 
 Enero 13\, 2011 \n\nThe Arc of Somerset County junto con el Somerset Child
 ren’s Treatment Center están ofreciendo este apoyo a nuestras familias que
  hablan español\n
X-WR-RELCALID:30317e6deb63471c2ab8e5ca21eddeca
X-WR-TIMEZONE:America/New_York
BEGIN:VTIMEZONE
TZID:America/New_York
BEGIN:STANDARD
TZNAME:EST
DTSTART:20101107T020000
TZOFFSETFROM:-0400
TZOFFSETTO:-0500
RDATE:20111106T020000
END:STANDARD
BEGIN:DAYLIGHT
TZNAME:EDT
DTSTART:20100314T020000
TZOFFSETFROM:-0500
TZOFFSETTO:-0400
RDATE:20110313T020000
RDATE:20120311T020000
END:DAYLIGHT
END:VTIMEZONE
BEGIN:VEVENT
UID:32e53c6a-ec5a-4ba1-a3ba-5be99f457d93
DTSTAMP:20260419T223718Z
DESCRIPTION:¿Tiene preguntas acerca del apoyo y servicios para su niño con 
 una incapacidad\, incluyendo el IEP de su niño\, la División de Incapacida
 des de Desarrollo (DDD)\, & recursos de la comunidad?\nUnamonos para \n “T
 e Estrecho Mi Mano de Apoyo”\nGrupo Informacional de Padres\, Para Padres 
 Hispanos\n\nDonde: 	 The Arc of Somerset County Family Support Center \n		 14
 1 South Main Street\n		 Manville\, NJ 08835\n\nCuando:  Jueves\, 20 de Enero
 \, 2011 \n		  En caso de un día de nieve nos reuniremos el Jueves\, 27 de En
 ero\, 2011\n\nHora: 	 10:30a.m- 12:30p.m\n\n\nSCOOT autobuses disponibles\;
  contacte por favor al 908-231-7151\, para Transporte del Condado de Somer
 set\n\nTraiga sus ideas\, preguntas\, y preocupaciones. Si no puede venir 
 al primer dia del grupo\, puede completar el cuestionario adjunto y mandar
 lo de vuelta a nuestro programa. \n\nEl grupo será facilitado en Español.
 \n\nPor favor reserve con :\nKarina Alvarado al 908-725-8544 Ext 672 \nO 
 \nClaudia Fernandez al 908-725-2366 Ext 208\n\nPor favor reserve antes de 
 Enero 13\, 2011 \n\nThe Arc of Somerset County junto con el Somerset Child
 ren’s Treatment Center están ofreciendo este apoyo a nuestras familias que
  hablan español\n
DTSTART;TZID=America/New_York:20110120T103000
DTEND;TZID=America/New_York:20110120T123000
LOCATION:Jerry Davis Center for Children and Families - 141 S Main St\, Man
 ville\, NJ
SUMMARY:“Te Estrecho Mi Mano de Apoyo”
END:VEVENT
END:VCALENDAR
