BEGIN:VCALENDAR
VERSION:2.0
PRODID:-//www.thearcofsomerset.org//NONSGML kigkonsult.se iCalcreator 2.30.
 10//
CALSCALE:GREGORIAN
METHOD:PUBLISH
UID:cd01c526-3a1e-4b61-82b3-f68d69412c9a
X-WR-CALDESC:“ My Time” is an afternoon of swimming\, games\, crafts\, and 
 fun. The event is free for all brother & sisters ages 8—12\, of siblings w
 ith special needs .
X-WR-RELCALID:3521ff2c19f86285a5b96d8235c6d3c9
X-WR-TIMEZONE:America/New_York
BEGIN:VTIMEZONE
TZID:America/New_York
BEGIN:STANDARD
TZNAME:EST
DTSTART:20101107T020000
TZOFFSETFROM:-0400
TZOFFSETTO:-0500
RDATE:20111106T020000
END:STANDARD
BEGIN:DAYLIGHT
TZNAME:EDT
DTSTART:20100314T020000
TZOFFSETFROM:-0500
TZOFFSETTO:-0400
RDATE:20110313T020000
RDATE:20120311T020000
END:DAYLIGHT
END:VTIMEZONE
BEGIN:VEVENT
UID:f6073d68-7a8b-46a1-8110-34930e51b54e
DTSTAMP:20260419T223636Z
DESCRIPTION:“ My Time” is an afternoon of swimming\, games\, crafts\, and f
 un. The event is free for all brother & sisters ages 8—12\, of siblings wi
 th special needs .
DTSTART;TZID=America/New_York:20110123T150000
DTEND;TZID=America/New_York:20110123T173000
LOCATION:Hillsborough YMCA
SUMMARY:My Time
END:VEVENT
END:VCALENDAR
