BEGIN:VCALENDAR
VERSION:2.0
PRODID:-//www.thearcofsomerset.org//NONSGML kigkonsult.se iCalcreator 2.30.
 10//
CALSCALE:GREGORIAN
METHOD:PUBLISH
UID:96cdb156-b92d-4653-96c5-d6e59ee2ec41
X-WR-CALDESC:“ My Time” is an afternoon of swimming\, games\, crafts\, and 
 fun. The event is free for all brother & sisters ages 8—12\, of siblings w
 ith special needs .
X-WR-RELCALID:c5ec3344c67bada9114a05f71f6eea37
X-WR-TIMEZONE:America/New_York
BEGIN:VTIMEZONE
TZID:America/New_York
BEGIN:STANDARD
TZNAME:EST
DTSTART:20101107T020000
TZOFFSETFROM:-0400
TZOFFSETTO:-0500
RDATE:20111106T020000
END:STANDARD
BEGIN:DAYLIGHT
TZNAME:EDT
DTSTART:20110313T020000
TZOFFSETFROM:-0500
TZOFFSETTO:-0400
RDATE:20120311T020000
END:DAYLIGHT
END:VTIMEZONE
BEGIN:VEVENT
UID:137c5c6e-b576-451a-b9fc-abfb5a3d8e11
DTSTAMP:20260419T182327Z
DESCRIPTION:“ My Time” is an afternoon of swimming\, games\, crafts\, and f
 un. The event is free for all brother & sisters ages 8—12\, of siblings wi
 th special needs .
DTSTART;TZID=America/New_York:20110410T150000
DTEND;TZID=America/New_York:20110410T173000
LOCATION:Hillsborough YMCA
SUMMARY:My Time
END:VEVENT
END:VCALENDAR
