BEGIN:VCALENDAR
VERSION:2.0
PRODID:-//www.thearcofsomerset.org//NONSGML kigkonsult.se iCalcreator 2.30.
 10//
CALSCALE:GREGORIAN
METHOD:PUBLISH
UID:d4247023-c4fe-46b1-9015-5408983ea4e7
X-WR-CALDESC:You're invited to join us for a safe and caring program for ch
 idlren 3-12 years old.\n\nActivities and refreshment will be provided.\n\n
 Price per child: $15\nPrice per sibling: $5\n\nPlease RSVP to Mary Atchey 
 on a monthly basis at 908-725-8455 or at marya@thearcofsomerset.org.
X-WR-RELCALID:699d1c317d5d292ba5bf9c665337b336
X-WR-TIMEZONE:America/New_York
BEGIN:VTIMEZONE
TZID:America/New_York
BEGIN:STANDARD
TZNAME:EST
DTSTART:20101107T020000
TZOFFSETFROM:-0400
TZOFFSETTO:-0500
RDATE:20111106T020000
RDATE:20121104T020000
END:STANDARD
BEGIN:DAYLIGHT
TZNAME:EDT
DTSTART:20110313T020000
TZOFFSETFROM:-0500
TZOFFSETTO:-0400
RDATE:20120311T020000
END:DAYLIGHT
END:VTIMEZONE
BEGIN:VEVENT
UID:a8eb1b78-0a9b-4437-bdaf-b79a0e75fda9
DTSTAMP:20260419T170329Z
DESCRIPTION:You're invited to join us for a safe and caring program for chi
 dlren 3-12 years old.\n\nActivities and refreshment will be provided.\n\nP
 rice per child: $15\nPrice per sibling: $5\n\nPlease RSVP to Mary Atchey o
 n a monthly basis at 908-725-8455 or at marya@thearcofsomerset.org.
DTSTART;TZID=America/New_York:20110520T180000
DTEND;TZID=America/New_York:20110520T210000
LOCATION:Jerry Davis Center for Children and Families\, 141 S Main St\, Man
 ville\, NJ
SUMMARY:Kid's Night Out
END:VEVENT
END:VCALENDAR
