BEGIN:VCALENDAR
VERSION:2.0
PRODID:-//www.thearcofsomerset.org//NONSGML kigkonsult.se iCalcreator 2.30.
 10//
CALSCALE:GREGORIAN
METHOD:PUBLISH
UID:9e6e1ffe-a10b-4d93-b560-690478c0203f
X-WR-CALDESC:The Arc of Somerset County will hold its annual Step Up For Th
 e Arc Walk & 5K Run on Saturday\, May 21\, 2011 at Duke Island Park in Bri
 dgewater\, NJ.\n\nWalker/Runner registration is available at www.firstgivi
 ng.com/arc-somerset\n \nRegistration fees ($10/Walker\, $17/Runner\, $15/U
 SATF Runner) are waived if you raise $50 by May 21!\n\n\n\nSponsorship opp
 ortunities are available at the following levels:\n\nGold Medal Sponsor - 
 $500\nExtra-large sponsor logo printed prominently on Walk T-shirt\nSponso
 r logo sign at starting line\nUse of a table at the Walk to distribute inf
 ormation or promotional materials\n\nSilver Medal Sponsor - $250\nLarge sp
 onsor logo printed on Walk T-shirt\nCheckpoint sign along the path of the 
 Walk \n\nBronze Medal Sponsor - $100\nSponsor logo printed on Walk T-shirt
 \n  \n \n \nTo reserve your sponsorship\, contact Tara Abbott at 908-725-8
 544 x610 or via email at taraa@thearcofsomerset.org.  Deadline: May 6\, 20
 11
X-WR-RELCALID:fc7d45f8802da134dbe1b68343d58e3e
X-WR-TIMEZONE:America/New_York
BEGIN:VTIMEZONE
TZID:America/New_York
BEGIN:STANDARD
TZNAME:EST
DTSTART:20101107T020000
TZOFFSETFROM:-0400
TZOFFSETTO:-0500
RDATE:20111106T020000
RDATE:20121104T020000
END:STANDARD
BEGIN:DAYLIGHT
TZNAME:EDT
DTSTART:20110313T020000
TZOFFSETFROM:-0500
TZOFFSETTO:-0400
RDATE:20120311T020000
END:DAYLIGHT
END:VTIMEZONE
BEGIN:VEVENT
UID:25f37d77-12ed-4a16-9587-ee8e981da7a2
DTSTAMP:20260419T165803Z
DESCRIPTION:The Arc of Somerset County will hold its annual Step Up For The
  Arc Walk & 5K Run on Saturday\, May 21\, 2011 at Duke Island Park in Brid
 gewater\, NJ.\n\nWalker/Runner registration is available at www.firstgivin
 g.com/arc-somerset\n \nRegistration fees ($10/Walker\, $17/Runner\, $15/US
 ATF Runner) are waived if you raise $50 by May 21!\n\n\n\nSponsorship oppo
 rtunities are available at the following levels:\n\nGold Medal Sponsor - $
 500\nExtra-large sponsor logo printed prominently on Walk T-shirt\nSponsor
  logo sign at starting line\nUse of a table at the Walk to distribute info
 rmation or promotional materials\n\nSilver Medal Sponsor - $250\nLarge spo
 nsor logo printed on Walk T-shirt\nCheckpoint sign along the path of the W
 alk \n\nBronze Medal Sponsor - $100\nSponsor logo printed on Walk T-shirt
 \n  \n \n \nTo reserve your sponsorship\, contact Tara Abbott at 908-725-8
 544 x610 or via email at taraa@thearcofsomerset.org.  Deadline: May 6\, 20
 11
DTSTART;TZID=America/New_York:20110521T100000
DTEND;TZID=America/New_York:20110521T140000
LOCATION:Duke Island Park
SUMMARY:Step Up For The Arc Walk & 5K Run
END:VEVENT
END:VCALENDAR
