BEGIN:VCALENDAR
VERSION:2.0
PRODID:-//www.thearcofsomerset.org//NONSGML kigkonsult.se iCalcreator 2.30.
 10//
CALSCALE:GREGORIAN
METHOD:PUBLISH
UID:a759b70c-25ce-4cd7-9a83-677f7d77420d
X-WR-CALDESC:Come celebrate with us as The Arc of Somerset enters the 39th 
 year of\nhelping children in our community succeed!\n\nPetting Zoo  Pony R
 ides  Moon Bounce  Games  Prizes\nFace Painting  Toy Demo  Drinks  Snacks 
 & MORE!
X-WR-RELCALID:9ff45c0234ed90e714af93e7c14d11ad
X-WR-TIMEZONE:America/New_York
BEGIN:VTIMEZONE
TZID:America/New_York
BEGIN:STANDARD
TZNAME:EST
DTSTART:20101107T020000
TZOFFSETFROM:-0400
TZOFFSETTO:-0500
RDATE:20111106T020000
RDATE:20121104T020000
END:STANDARD
BEGIN:DAYLIGHT
TZNAME:EDT
DTSTART:20110313T020000
TZOFFSETFROM:-0500
TZOFFSETTO:-0400
RDATE:20120311T020000
END:DAYLIGHT
END:VTIMEZONE
BEGIN:VEVENT
UID:aa9ff6f4-534b-42f5-a6bb-40a7056f2a9c
DTSTAMP:20260419T155439Z
DESCRIPTION:Come celebrate with us as The Arc of Somerset enters the 39th y
 ear of\nhelping children in our community succeed!\n\nPetting Zoo  Pony Ri
 des  Moon Bounce  Games  Prizes\nFace Painting  Toy Demo  Drinks  Snacks &
  MORE!
DTSTART;TZID=America/New_York:20110624T100000
DTEND;TZID=America/New_York:20110624T130000
LOCATION:Jerry Davis Center for Children and Families
SUMMARY:JDCCF Family Fun Day
END:VEVENT
END:VCALENDAR
