BEGIN:VCALENDAR
VERSION:2.0
PRODID:-//www.thearcofsomerset.org//NONSGML kigkonsult.se iCalcreator 2.30.
 10//
CALSCALE:GREGORIAN
METHOD:PUBLISH
UID:6e6ede6d-204e-43a3-8c79-76bc032958c3
X-WR-CALDESC:Join The Arc of Somerset County as we celebrate a successful y
 ear of serving individual with intellectual and developmental disabilities
 .\n\nExhibits at 5:00\nAwards Ceremony at 6:00 \n\nEvent is free - Refresh
 ments provided - Door prizes - Open to the public\n\nPlease RSVP to Laura 
 Ziegler at 908.725.8544 x608 or via email at lauraz@thearcofsomerset.org
X-WR-RELCALID:edb92fc5f0bda823aea3b681aa82db06
X-WR-TIMEZONE:America/New_York
BEGIN:VTIMEZONE
TZID:America/New_York
BEGIN:STANDARD
TZNAME:EST
DTSTART:20101107T020000
TZOFFSETFROM:-0400
TZOFFSETTO:-0500
RDATE:20111106T020000
RDATE:20121104T020000
END:STANDARD
BEGIN:DAYLIGHT
TZNAME:EDT
DTSTART:20110313T020000
TZOFFSETFROM:-0500
TZOFFSETTO:-0400
RDATE:20120311T020000
END:DAYLIGHT
END:VTIMEZONE
BEGIN:VEVENT
UID:121191b0-d44f-436e-8616-c07827efc53b
DTSTAMP:20260419T154612Z
DESCRIPTION:Join The Arc of Somerset County as we celebrate a successful ye
 ar of serving individual with intellectual and developmental disabilities.
 \n\nExhibits at 5:00\nAwards Ceremony at 6:00 \n\nEvent is free - Refreshm
 ents provided - Door prizes - Open to the public\n\nPlease RSVP to Laura Z
 iegler at 908.725.8544 x608 or via email at lauraz@thearcofsomerset.org
DTSTART;TZID=America/New_York:20110627T170000
DTEND;TZID=America/New_York:20110627T190000
LOCATION:Bridgewater Manor
SUMMARY:Annual Meeting & Awards Ceremony
END:VEVENT
END:VCALENDAR
