BEGIN:VCALENDAR
VERSION:2.0
PRODID:-//www.thearcofsomerset.org//NONSGML kigkonsult.se iCalcreator 2.30.
 10//
CALSCALE:GREGORIAN
METHOD:PUBLISH
UID:8399726d-b888-475f-b8b2-0e86d663812c
X-WR-CALDESC:“ My Time” is an afternoon of swimming\, games\, crafts\, and 
 fun. The event is free for all brother & sisters ages 8—12\, of siblings w
 ith special needs .
X-WR-RELCALID:dc15d6453977d9602fdd595e72906621
X-WR-TIMEZONE:America/New_York
BEGIN:VTIMEZONE
TZID:America/New_York
BEGIN:STANDARD
TZNAME:EST
DTSTART:20101107T020000
TZOFFSETFROM:-0400
TZOFFSETTO:-0500
RDATE:20111106T020000
RDATE:20121104T020000
END:STANDARD
BEGIN:DAYLIGHT
TZNAME:EDT
DTSTART:20110313T020000
TZOFFSETFROM:-0500
TZOFFSETTO:-0400
RDATE:20120311T020000
END:DAYLIGHT
END:VTIMEZONE
BEGIN:VEVENT
UID:9db34f95-6484-4be9-a572-e5cf95ab7c9e
DTSTAMP:20260419T141717Z
DESCRIPTION:“ My Time” is an afternoon of swimming\, games\, crafts\, and f
 un. The event is free for all brother & sisters ages 8—12\, of siblings wi
 th special needs .
DTSTART;TZID=America/New_York:20110724T120000
DTEND;TZID=America/New_York:20110724T143000
LOCATION:Hillsborough YMCA
SUMMARY:My Time
END:VEVENT
END:VCALENDAR
