BEGIN:VCALENDAR
VERSION:2.0
PRODID:-//www.thearcofsomerset.org//NONSGML kigkonsult.se iCalcreator 2.30.
 10//
CALSCALE:GREGORIAN
METHOD:PUBLISH
UID:6d81ec90-1520-48f6-8873-5c928b85e274
X-WR-CALDESC:The Arc of Somerset County is hosting an employment walk-in-da
 y on Tuesday\, September 13\, 2011 from 9:00am-2:00pm.\n\nNo appointment n
 ecessary.\n
X-WR-RELCALID:b7d73eca80e1e9c225357df726e61f09
X-WR-TIMEZONE:America/New_York
BEGIN:VTIMEZONE
TZID:America/New_York
BEGIN:STANDARD
TZNAME:EST
DTSTART:20101107T020000
TZOFFSETFROM:-0400
TZOFFSETTO:-0500
RDATE:20111106T020000
RDATE:20121104T020000
END:STANDARD
BEGIN:DAYLIGHT
TZNAME:EDT
DTSTART:20110313T020000
TZOFFSETFROM:-0500
TZOFFSETTO:-0400
RDATE:20120311T020000
RDATE:20130310T020000
END:DAYLIGHT
END:VTIMEZONE
BEGIN:VEVENT
UID:9cfed502-cd66-4e36-8ba8-8ecf829a647c
DTSTAMP:20260419T120933Z
DESCRIPTION:The Arc of Somerset County is hosting an employment walk-in-day
  on Tuesday\, September 13\, 2011 from 9:00am-2:00pm.\n\nNo appointment ne
 cessary.\n
DTSTART;TZID=America/New_York:20110912T090000
DTEND;TZID=America/New_York:20110912T140000
LOCATION:The Arc of Somerset County\, 141 South Main Street\, Manville\, NJ
SUMMARY:Employment Walk-In Day
END:VEVENT
END:VCALENDAR
